BEGIN:VCALENDAR
VERSION:2.0
PRODID:-//FREGUESIA DARDAVAZ - ECPv6.2.8.1//NONSGML v1.0//EN
CALSCALE:GREGORIAN
METHOD:PUBLISH
X-ORIGINAL-URL:https://www.freguesiadardavaz.pt
X-WR-CALDESC:Events for FREGUESIA DARDAVAZ
REFRESH-INTERVAL;VALUE=DURATION:PT1H
X-Robots-Tag:noindex
X-PUBLISHED-TTL:PT1H
BEGIN:VTIMEZONE
TZID:UTC
BEGIN:STANDARD
TZOFFSETFROM:+0000
TZOFFSETTO:+0000
TZNAME:UTC
DTSTART:20200101T000000
END:STANDARD
END:VTIMEZONE
BEGIN:VEVENT
DTSTART;TZID=UTC:20210708T070000
DTEND;TZID=UTC:20210708T070000
DTSTAMP:20260422T120658
CREATED:20201218T123253Z
LAST-MODIFIED:20201218T142132Z
UID:2515-1625727600-1625727600@www.freguesiadardavaz.pt
SUMMARY:Convocação para o Dia da Defesa Nacional
DESCRIPTION:Rui Manuel Soares Neves Mota\, presidente da Assembleia de Freguesia de Dardavaz\, torna público que\, no cumprimento do art.º 11\, Nº.1\, da Lei Nº.75 / 2013\, de 12 de Setembro\, legislação subsequente e Regimento de Assembleia de Freguesia em vigor\, terá lugar uma sessão ordinária de Assembleia de Freguesia\, a realizar no dia 2 de maio de 2021\, pelas 10:00 horas\, na sede da Associação Recreativa e Cultural de Alvarim (ARCA)\, cujo o endereço é Largo da Associação\, Nº21\, Alvarim 3460-052 Tondela\, contendo a ordem de trabalhos que se encontra definida em edital correspondente. 						\n				\n					\n		\n							\n		\n				\n						\n					\n			\n								\n				\n					\n			\n				\n					\n					\n						\n												10:00h\n											\n					\n				\n				\n					\n											\n						\n							INICIO DE TRABALHOS\n							\n								\n									\n								\n							\n						\n										\n				\n			\n		 \n				\n				\n					\n		\n							\n		\n				\n						\n					\n			\n								\n				\n							Aviso: Informamos que a Assembleia de Freguesia irá decorrer de acordo com as norma da DGS impostas à data\, face à pandemia da Covid-19\, dando nota desde já que a entrada de público será restringida à garantia absoluta das referidas normas. EDITAL: Ver PDF
URL:https://www.freguesiadardavaz.pt/evento/convocacao-para-o-dia-da-defesa-nacional/
LOCATION:Regimento de Infantaria Nº 14\, Regimento de Infantaria 14\, Viseu\, Viseu\, 3501-908
CATEGORIES:Atividades
ATTACH;FMTTYPE=image/jpeg:https://www.freguesiadardavaz.pt/wp-content/uploads/2020/12/Freguesia-de-Dardavaz-Dia-da-Defesa-Nacional.jpg
ORGANIZER;CN="Freguesia de Dardavaz":MAILTO:geral@freguesiadardavaz.pt
END:VEVENT
BEGIN:VEVENT
DTSTART;TZID=UTC:20210502T100000
DTEND;TZID=UTC:20210502T130000
DTSTAMP:20260422T120659
CREATED:20210430T170852Z
LAST-MODIFIED:20210503T165325Z
UID:3491-1619949600-1619960400@www.freguesiadardavaz.pt
SUMMARY:Sessão Ordinária da Assembleia de Freguesia 02-05-2021
DESCRIPTION:Rui Manuel Soares Neves Mota\, presidente da Assembleia de Freguesia de Dardavaz\, torna público que\, no cumprimento do art.º 11\, Nº.1\, da Lei Nº.75 / 2013\, de 12 de Setembro\, legislação subsequente e Regimento de Assembleia de Freguesia em vigor\, terá lugar uma sessão ordinária de Assembleia de Freguesia\, a realizar no dia 2 de maio de 2021\, pelas 10:00 horas\, na sede da Associação Recreativa e Cultural de Alvarim (ARCA)\, cujo o endereço é Largo da Associação\, Nº21\, Alvarim 3460-052 Tondela\, contendo a ordem de trabalhos que se encontra definida em edital correspondente. 						\n				\n					\n		\n							\n		\n				\n						\n					\n			\n								\n				\n					\n			\n				\n					\n					\n						\n												10:00h\n											\n					\n				\n				\n					\n											\n						\n							INICIO DE TRABALHOS\n							\n								\n									\n								\n							\n						\n										\n				\n			\n		 \n				\n				\n					\n		\n							\n		\n				\n						\n					\n			\n								\n				\n							Aviso: Informamos que a Assembleia de Freguesia irá decorrer de acordo com as norma da DGS impostas à data\, face à pandemia da Covid-19\, dando nota desde já que a entrada de público será restringida à garantia absoluta das referidas normas. EDITAL: Ver PDF
URL:https://www.freguesiadardavaz.pt/evento/sessao-ordinaria-da-assembleia-de-freguesia-02-05-2021/
LOCATION:Associação Recriativa e Cultural de Alvarim (ARCA)\, Largo da Associação\, Nº21\, Alvarim\, Tondela\, Tondela\, 3460-052\, Portugal
CATEGORIES:Assembleia
ATTACH;FMTTYPE=image/jpeg:https://www.freguesiadardavaz.pt/wp-content/uploads/2020/12/Freguesia-de-Dardavaz-Pontos-de-Interesse-8.jpg
ORGANIZER;CN="Assembleia de Freguesia":MAILTO:assembleia@freguesiadardavaz.pt
END:VEVENT
BEGIN:VEVENT
DTSTART;TZID=UTC:20201220T100000
DTEND;TZID=UTC:20201220T130000
DTSTAMP:20260422T120659
CREATED:20201217T160232Z
LAST-MODIFIED:20210503T165415Z
UID:2340-1608458400-1608469200@www.freguesiadardavaz.pt
SUMMARY:Sessão Ordinária da Assembleia de Freguesia
DESCRIPTION:Rui Manuel Soares Neves Mota\, presidente da Assembleia de Freguesia de Dardavaz\, torna público que\, no cumprimento do art.º 11\, Nº.1\, da Lei Nº.75 / 2013\, de 12 de Setembro\, legislação subsequente e Regimento de Assembleia de Freguesia em vigor\, terá lugar uma sessão ordinária de Assembleia de Freguesia\, a realizar no dia 2 de maio de 2021\, pelas 10:00 horas\, na sede da Associação Recreativa e Cultural de Alvarim (ARCA)\, cujo o endereço é Largo da Associação\, Nº21\, Alvarim 3460-052 Tondela\, contendo a ordem de trabalhos que se encontra definida em edital correspondente. 						\n				\n					\n		\n							\n		\n				\n						\n					\n			\n								\n				\n					\n			\n				\n					\n					\n						\n												10:00h\n											\n					\n				\n				\n					\n											\n						\n							INICIO DE TRABALHOS\n							\n								\n									\n								\n							\n						\n										\n				\n			\n		 \n				\n				\n					\n		\n							\n		\n				\n						\n					\n			\n								\n				\n							Aviso: Informamos que a Assembleia de Freguesia irá decorrer de acordo com as norma da DGS impostas à data\, face à pandemia da Covid-19\, dando nota desde já que a entrada de público será restringida à garantia absoluta das referidas normas. EDITAL: Ver PDF
URL:https://www.freguesiadardavaz.pt/evento/sessao-ordinaria-da-assembleia-de-freguesia/
LOCATION:Associação Recriativa e Cultural de Alvarim (ARCA)\, Largo da Associação\, Nº21\, Alvarim\, Tondela\, Tondela\, 3460-052\, Portugal
CATEGORIES:Assembleia
ATTACH;FMTTYPE=image/jpeg:https://www.freguesiadardavaz.pt/wp-content/uploads/2020/12/freguesia-de-dardavaz-parque-varzea-do-homem-10.jpg
ORGANIZER;CN="Assembleia de Freguesia":MAILTO:assembleia@freguesiadardavaz.pt
END:VEVENT
END:VCALENDAR